BEGIN:VCALENDAR
VERSION:2.0
PRODID:-//GMJ - ECPv6.15.11//NONSGML v1.0//EN
CALSCALE:GREGORIAN
METHOD:PUBLISH
X-WR-CALNAME:GMJ
X-ORIGINAL-URL:https://iamgmjohnson.com
X-WR-CALDESC:Events for GMJ
REFRESH-INTERVAL;VALUE=DURATION:PT1H
X-Robots-Tag:noindex
X-PUBLISHED-TTL:PT1H
BEGIN:VTIMEZONE
TZID:America/Los_Angeles
BEGIN:DAYLIGHT
TZOFFSETFROM:-0800
TZOFFSETTO:-0700
TZNAME:PDT
DTSTART:20190310T100000
END:DAYLIGHT
BEGIN:STANDARD
TZOFFSETFROM:-0700
TZOFFSETTO:-0800
TZNAME:PST
DTSTART:20191103T090000
END:STANDARD
BEGIN:DAYLIGHT
TZOFFSETFROM:-0800
TZOFFSETTO:-0700
TZNAME:PDT
DTSTART:20200308T100000
END:DAYLIGHT
BEGIN:STANDARD
TZOFFSETFROM:-0700
TZOFFSETTO:-0800
TZNAME:PST
DTSTART:20201101T090000
END:STANDARD
BEGIN:DAYLIGHT
TZOFFSETFROM:-0800
TZOFFSETTO:-0700
TZNAME:PDT
DTSTART:20210314T100000
END:DAYLIGHT
BEGIN:STANDARD
TZOFFSETFROM:-0700
TZOFFSETTO:-0800
TZNAME:PST
DTSTART:20211107T090000
END:STANDARD
BEGIN:DAYLIGHT
TZOFFSETFROM:-0800
TZOFFSETTO:-0700
TZNAME:PDT
DTSTART:20220313T100000
END:DAYLIGHT
BEGIN:STANDARD
TZOFFSETFROM:-0700
TZOFFSETTO:-0800
TZNAME:PST
DTSTART:20221106T090000
END:STANDARD
BEGIN:DAYLIGHT
TZOFFSETFROM:-0800
TZOFFSETTO:-0700
TZNAME:PDT
DTSTART:20230312T100000
END:DAYLIGHT
BEGIN:STANDARD
TZOFFSETFROM:-0700
TZOFFSETTO:-0800
TZNAME:PST
DTSTART:20231105T090000
END:STANDARD
BEGIN:DAYLIGHT
TZOFFSETFROM:-0800
TZOFFSETTO:-0700
TZNAME:PDT
DTSTART:20240310T100000
END:DAYLIGHT
BEGIN:STANDARD
TZOFFSETFROM:-0700
TZOFFSETTO:-0800
TZNAME:PST
DTSTART:20241103T090000
END:STANDARD
END:VTIMEZONE
BEGIN:VEVENT
DTSTART;TZID=America/Los_Angeles:20230228T160000
DTEND;TZID=America/Los_Angeles:20230228T180000
DTSTAMP:20260416T111838
CREATED:20230120T185559Z
LAST-MODIFIED:20230120T193659Z
UID:23483-1677600000-1677607200@iamgmjohnson.com
SUMMARY:Special Reception and Book Signing Los Angeles
DESCRIPTION:
URL:https://iamgmjohnson.com/event/special-reception-and-book-signing-los-angeles/
LOCATION:In The Meantime\, 2146 W. Adams Blvd\, Los Angeles\, CA\, 90018\, United States
ORGANIZER;CN="GMJ":MAILTO:iamgmjohnson@gmail.com
END:VEVENT
BEGIN:VEVENT
DTSTART;TZID=America/Los_Angeles:20230206T170000
DTEND;TZID=America/Los_Angeles:20230206T170000
DTSTAMP:20260416T111838
CREATED:20230120T190658Z
LAST-MODIFIED:20230120T190658Z
UID:23489-1675702800-1675702800@iamgmjohnson.com
SUMMARY:IN PERSON AUTHOR TALK: All Boys Aren't Blue & We Are Not Broken with George M. Johnson.
DESCRIPTION:
URL:https://iamgmjohnson.com/event/in-person-author-talk-all-boys-arent-blue-we-are-not-broken-with-george-m-johnson/
LOCATION:Kindred Stories\, 2304 Stuart Street\, Houston\, TX\, 77004\, United States
ORGANIZER;CN="GMJ":MAILTO:iamgmjohnson@gmail.com
END:VEVENT
BEGIN:VEVENT
DTSTART;TZID=America/Los_Angeles:20220914T173000
DTEND;TZID=America/Los_Angeles:20220914T190000
DTSTAMP:20260416T111838
CREATED:20220904T044823Z
LAST-MODIFIED:20220904T045115Z
UID:23393-1663176600-1663182000@iamgmjohnson.com
SUMMARY:Courageous Voices\, One Movement
DESCRIPTION:📆Join us for “Courageous Voices\, One Movement” on Sep 14 @ 5:30pm PST– a virtual evening of inspiration & partnership for the future. This year\, we welcome guest speaker\, LGBTQIA+ activist & best-selling author of All Boys Aren’t Blue\, @IamGMJohnson \n🎟 https://t.co/oulEaAQ6FC pic.twitter.com/ExrOITHaaq \n— CourageCalifornia (@CourageCA) August 9\, 2022
URL:https://iamgmjohnson.com/event/courageous-voices-one-movement/
LOCATION:Courageous Voices\, On Movement\, VIRTUAL
ORGANIZER;CN="GMJ":MAILTO:iamgmjohnson@gmail.com
END:VEVENT
BEGIN:VEVENT
DTSTART;VALUE=DATE:20220614
DTEND;VALUE=DATE:20220616
DTSTAMP:20260416T111838
CREATED:20220511T043414Z
LAST-MODIFIED:20220511T043414Z
UID:23340-1655240400-1655326799@iamgmjohnson.com
SUMMARY:ABAB BOOK TOUR 2022: Austin TX: In Conversation With Patrice Caldwell
DESCRIPTION:
URL:https://iamgmjohnson.com/event/abab-book-tour-2022-austin-tx-in-conversation-with-patrice-caldwell/
LOCATION:Book People\, 603 North Lamar Blvd\, Austin\, TX\, 78703\, United States
END:VEVENT
BEGIN:VEVENT
DTSTART;VALUE=DATE:20220613
DTEND;VALUE=DATE:20220615
DTSTAMP:20260416T111838
CREATED:20220511T042614Z
LAST-MODIFIED:20220511T042614Z
UID:23336-1655154000-1655240399@iamgmjohnson.com
SUMMARY:ABAB BOOK TOUR: DC: In Conversation With Ebony LaDelle
DESCRIPTION:
URL:https://iamgmjohnson.com/event/abab-book-tour-dc-in-conversation-with-ebony-ladelle/
LOCATION:Mahogany Books\, 231 Good Hope Rd.\, Washington DC\, DC\, 20020\, United States
END:VEVENT
BEGIN:VEVENT
DTSTART;VALUE=DATE:20220612
DTEND;VALUE=DATE:20220614
DTSTAMP:20260416T111838
CREATED:20220511T041720Z
LAST-MODIFIED:20220511T041720Z
UID:23331-1655067600-1655153999@iamgmjohnson.com
SUMMARY:ABAB BOOK TOUR 2022: ATL: In Conversation with Nic Stone
DESCRIPTION:
URL:https://iamgmjohnson.com/event/abab-book-tour-2022-atl-in-conversation-with-nic-stone/
LOCATION:Venue: TBA
ORGANIZER;CN="GMJ":MAILTO:iamgmjohnson@gmail.com
END:VEVENT
BEGIN:VEVENT
DTSTART;VALUE=DATE:20220611
DTEND;VALUE=DATE:20220613
DTSTAMP:20260416T111838
CREATED:20220511T035600Z
LAST-MODIFIED:20220511T041821Z
UID:23327-1654981200-1655067599@iamgmjohnson.com
SUMMARY:ABAB BOOK TOUR 2022: NYC: In Conversation With Kalen Allen.
DESCRIPTION:
URL:https://iamgmjohnson.com/event/abab-book-tour-2022-in-conversation-with-kalen-allen/
LOCATION:Venue: TBA
ORGANIZER;CN="GMJ":MAILTO:iamgmjohnson@gmail.com
END:VEVENT
BEGIN:VEVENT
DTSTART;VALUE=DATE:20220601
DTEND;VALUE=DATE:20220603
DTSTAMP:20260416T111838
CREATED:20220511T034851Z
LAST-MODIFIED:20220511T034851Z
UID:23323-1654117200-1654203599@iamgmjohnson.com
SUMMARY:ABAB: BOOK TOUR: LA CA.
DESCRIPTION:
URL:https://iamgmjohnson.com/event/abab-book-tour-la-ca/
LOCATION:Skylight Books\, 1818 NORTH VERMONT AVE.\, LOS ANGELES\, CA\, 90027\, United States
ORGANIZER;CN="GMJ":MAILTO:iamgmjohnson@gmail.com
END:VEVENT
BEGIN:VEVENT
DTSTART;VALUE=DATE:20211022
DTEND;VALUE=DATE:20211024
DTSTAMP:20260416T111838
CREATED:20210831T194738Z
LAST-MODIFIED:20210917T015429Z
UID:22924-1634936400-1635022799@iamgmjohnson.com
SUMMARY:Appearance: Boston Book Festival
DESCRIPTION:
URL:https://iamgmjohnson.com/event/appearance-boston-book-festival/
LOCATION:Boston Book Festival\, Boston\, MA\, United States
ORGANIZER;CN="GMJ":MAILTO:iamgmjohnson@gmail.com
END:VEVENT
BEGIN:VEVENT
DTSTART;VALUE=DATE:20211002
DTEND;VALUE=DATE:20211004
DTSTAMP:20260416T111838
CREATED:20210831T194436Z
LAST-MODIFIED:20210917T015230Z
UID:22920-1633208400-1633294799@iamgmjohnson.com
SUMMARY:Appearance: Brooklyn Book Festival
DESCRIPTION:
URL:https://iamgmjohnson.com/event/appearance-brooklyn-book-festival/
LOCATION:Brooklyn Book Festival\, Brooklyn\, NY\, United States
ORGANIZER;CN="GMJ":MAILTO:iamgmjohnson@gmail.com
END:VEVENT
BEGIN:VEVENT
DTSTART;VALUE=DATE:20210924
DTEND;VALUE=DATE:20210926
DTSTAMP:20260416T111838
CREATED:20210831T191423Z
LAST-MODIFIED:20210917T015125Z
UID:22916-1632517200-1632603599@iamgmjohnson.com
SUMMARY:Appearance: Bookmarks Book Festival
DESCRIPTION:
URL:https://iamgmjohnson.com/event/appearance-bookmarks-book-festival/
LOCATION:Bookmarks Book Festival\, Winston Salem\, NC\, United States
ORGANIZER;CN="GMJ":MAILTO:iamgmjohnson@gmail.com
END:VEVENT
BEGIN:VEVENT
DTSTART;TZID=America/Los_Angeles:20210912T110000
DTEND;TZID=America/Los_Angeles:20210912T110000
DTSTAMP:20260416T111838
CREATED:20210831T190944Z
LAST-MODIFIED:20210831T190944Z
UID:22912-1631444400-1631444400@iamgmjohnson.com
SUMMARY:Appearance: Hammonds House Museum
DESCRIPTION:
URL:https://iamgmjohnson.com/event/appearance-hammonds-house-museum/
LOCATION:Hammonds House Museum\, 503 Peeples St SW\, Atlanta\, GA\, 30310\, United States
ORGANIZER;CN="GMJ":MAILTO:iamgmjohnson@gmail.com
END:VEVENT
BEGIN:VEVENT
DTSTART;TZID=America/Los_Angeles:20210909T150000
DTEND;TZID=America/Los_Angeles:20210909T150000
DTSTAMP:20260416T111838
CREATED:20210831T190606Z
LAST-MODIFIED:20210831T190606Z
UID:22908-1631199600-1631199600@iamgmjohnson.com
SUMMARY:Appearance: Interabang Books
DESCRIPTION:
URL:https://iamgmjohnson.com/event/appearance-interabang-books/
LOCATION:Interabang Books\, 5600 W. Lovers Ln. #142\, Dallas\, TX\, 75209\, United States
ORGANIZER;CN="GMJ":MAILTO:iamgmjohnson@gmail.com
END:VEVENT
BEGIN:VEVENT
DTSTART;TZID=America/Los_Angeles:20210908T150000
DTEND;TZID=America/Los_Angeles:20210908T150000
DTSTAMP:20260416T111838
CREATED:20210831T015950Z
LAST-MODIFIED:20210831T020022Z
UID:22903-1631113200-1631113200@iamgmjohnson.com
SUMMARY:Appearance MLK Jr Memorial Library
DESCRIPTION:
URL:https://iamgmjohnson.com/event/appearance-mlk-jr-memorial-library/
LOCATION:MLK Jr. Memorial Library\, 901 G Street NW\, Washington DC\, DC\, 20001\, United States
ORGANIZER;CN="GMJ":MAILTO:iamgmjohnson@gmail.com
END:VEVENT
BEGIN:VEVENT
DTSTART;TZID=America/Los_Angeles:20210907T120000
DTEND;TZID=America/Los_Angeles:20210907T120000
DTSTAMP:20260416T111838
CREATED:20200806T074839Z
LAST-MODIFIED:20210831T015325Z
UID:22717-1631016000-1631016000@iamgmjohnson.com
SUMMARY:In Person Appearance: Books Are Magic Bookstore
DESCRIPTION:
URL:https://iamgmjohnson.com/event/national-council-of-teachers-of-english-conference/
LOCATION:Books Are Magic\, 225 Smith Street\, Brooklyn\, NY\, 11231
ORGANIZER;CN="GMJ":MAILTO:iamgmjohnson@gmail.com
END:VEVENT
BEGIN:VEVENT
DTSTART;TZID=America/Los_Angeles:20201021T062500
DTEND;TZID=America/Los_Angeles:20201021T071500
DTSTAMP:20260416T111838
CREATED:20201001T024542Z
LAST-MODIFIED:20201001T024542Z
UID:22739-1603261500-1603264500@iamgmjohnson.com
SUMMARY:GMJ @ RIT
DESCRIPTION:Discussions With George M. Johnson\nRIT College of Science Inclusive Excellence hosts George M. Johnson. Journalist\, Consultant\, Activist and Author of “All Boys Aren’t Blue”\nGeorge (they) have written on race\, gender\, sex\, and culture for more than 40 national publications.
URL:https://iamgmjohnson.com/event/gmj-rit/
LOCATION:Virtual Zoom\, United States
ORGANIZER;CN="GMJ":MAILTO:iamgmjohnson@gmail.com
END:VEVENT
BEGIN:VEVENT
DTSTART;TZID=America/Los_Angeles:20201018T110000
DTEND;TZID=America/Los_Angeles:20201018T120000
DTSTAMP:20260416T111838
CREATED:20201001T025350Z
LAST-MODIFIED:20201001T025350Z
UID:22742-1603018800-1603022400@iamgmjohnson.com
SUMMARY:Houston Community Read
DESCRIPTION:Brazos Bookstore. Houston Texas Virtual Zoom event.
URL:https://iamgmjohnson.com/event/houston-community-read/
LOCATION:Virtual Zoom\, United States
ORGANIZER;CN="GMJ":MAILTO:iamgmjohnson@gmail.com
END:VEVENT
BEGIN:VEVENT
DTSTART;VALUE=DATE:20201014
DTEND;VALUE=DATE:20201019
DTSTAMP:20260416T111838
CREATED:20200806T073238Z
LAST-MODIFIED:20200806T074125Z
UID:22713-1602694800-1603040399@iamgmjohnson.com
SUMMARY:International Literacy Association Conference
DESCRIPTION:
URL:https://iamgmjohnson.com/event/international-literacy-association-conference/
LOCATION:Columbus\, OH\, United States
ORGANIZER;CN="GMJ":MAILTO:iamgmjohnson@gmail.com
END:VEVENT
BEGIN:VEVENT
DTSTART;VALUE=DATE:20201004
DTEND;VALUE=DATE:20201010
DTSTAMP:20260416T111838
CREATED:20201001T023902Z
LAST-MODIFIED:20201001T023902Z
UID:22735-1601830800-1602262799@iamgmjohnson.com
SUMMARY:Lambda LitFest
DESCRIPTION:A Weeklong Celebration of Queer Black Artistry\nOctober 5-9\, 2020\nLambda LitFest is back for its fourth year with a week-long festival that will celebrate and defend Black LGBTQ lives. Join over 20 BIPOC LGBTQIA+ writers in conversations on art-making\, joy\, and how to dismantle a white supremacist\, ableist\, cisgender\, heteronormative world.
URL:https://iamgmjohnson.com/event/lambda-litfest/
LOCATION:Virtual Zoom\, United States
ORGANIZER;CN="GMJ":MAILTO:iamgmjohnson@gmail.com
END:VEVENT
BEGIN:VEVENT
DTSTART;VALUE=DATE:20201002
DTEND;VALUE=DATE:20201004
DTSTAMP:20260416T111838
CREATED:20200806T072609Z
LAST-MODIFIED:20200806T072950Z
UID:22710-1601658000-1601744399@iamgmjohnson.com
SUMMARY:AARLCC-CON Event
DESCRIPTION:Virtual Event
URL:https://iamgmjohnson.com/event/aarlcc-con-event/
LOCATION:YouTube\, United States
ORGANIZER;CN="GMJ":MAILTO:iamgmjohnson@gmail.com
END:VEVENT
BEGIN:VEVENT
DTSTART;VALUE=DATE:20200925
DTEND;VALUE=DATE:20200928
DTSTAMP:20260416T111838
CREATED:20200806T071739Z
LAST-MODIFIED:20200806T073554Z
UID:22706-1601053200-1601225999@iamgmjohnson.com
SUMMARY:Cultural Hero Award @ TruHero Awards Gala
DESCRIPTION:
URL:https://iamgmjohnson.com/event/cultural-hero-award-truhero-awards-gala/
LOCATION:Palm Springs\, CA\, United States
ORGANIZER;CN="GMJ":MAILTO:iamgmjohnson@gmail.com
END:VEVENT
BEGIN:VEVENT
DTSTART;VALUE=DATE:20200911
DTEND;VALUE=DATE:20200914
DTSTAMP:20260416T111838
CREATED:20200806T071319Z
LAST-MODIFIED:20200806T071319Z
UID:22703-1599858000-1600030799@iamgmjohnson.com
SUMMARY:Milford Readers and Writers Festival
DESCRIPTION:
URL:https://iamgmjohnson.com/event/milford-readers-and-writers-festival/
LOCATION:Black Dogs Book\, Milford PA\, PA\, United States
ORGANIZER;CN="GMJ":MAILTO:iamgmjohnson@gmail.com
END:VEVENT
BEGIN:VEVENT
DTSTART;TZID=America/Los_Angeles:20200630T160000
DTEND;TZID=America/Los_Angeles:20200630T160000
DTSTAMP:20260416T111838
CREATED:20200614T112849Z
LAST-MODIFIED:20200614T112856Z
UID:22667-1593532800-1593532800@iamgmjohnson.com
SUMMARY:Seabury Out and About Book Club
DESCRIPTION:
URL:https://iamgmjohnson.com/event/seabury-out-and-about-book-club/
LOCATION:Seabury Out and About Book Club Virtual Event
ORGANIZER;CN="GMJ":MAILTO:iamgmjohnson@gmail.com
END:VEVENT
BEGIN:VEVENT
DTSTART;TZID=America/Los_Angeles:20200625T160000
DTEND;TZID=America/Los_Angeles:20200625T160000
DTSTAMP:20260416T111838
CREATED:20200624T013037Z
LAST-MODIFIED:20200624T013110Z
UID:22678-1593100800-1593100800@iamgmjohnson.com
SUMMARY:Black AIDS Institute Discussion
DESCRIPTION:Virtual discussion with GMJ
URL:https://iamgmjohnson.com/event/black-aids-institute-discussion/
LOCATION:Black AIDS Institute
ORGANIZER;CN="GMJ":MAILTO:iamgmjohnson@gmail.com
END:VEVENT
BEGIN:VEVENT
DTSTART;TZID=America/Los_Angeles:20200623T180000
DTEND;TZID=America/Los_Angeles:20200623T180000
DTSTAMP:20260416T111838
CREATED:20200624T005140Z
LAST-MODIFIED:20200624T040345Z
UID:22672-1592935200-1592935200@iamgmjohnson.com
SUMMARY:The Abou+ Me Section
DESCRIPTION:One-On-One with GMJ \nThe Abou+ Me Section at 9pm (EST). Go to @donjarlove on Instagram
URL:https://iamgmjohnson.com/event/the-abou-me-section/
LOCATION:Instagram Live
END:VEVENT
BEGIN:VEVENT
DTSTART;TZID=America/Los_Angeles:20200619T120000
DTEND;TZID=America/Los_Angeles:20200619T120000
DTSTAMP:20260416T111838
CREATED:20200610T112342Z
LAST-MODIFIED:20200612T040555Z
UID:22650-1592568000-1592568000@iamgmjohnson.com
SUMMARY:Bitch Media "The Rage" A Virtual Discussion with GMJ
DESCRIPTION:Bitch Media’s mission is to provide and encourage an engaged\, thoughtful feminist response to mainstream media and popular culture. Bitch Media is in print with Bitch: Feminist Response to Pop Culture\, online at bitchmedia.org\, on the air with our podcasts\, Popaganda and Backtalk\, and on campuses around the world via Bitch on Campus. We offer writing fellowships and internships on a quarterly basis\, and we also house a community lending library at our HQ in Portland\, Oregon. Visit GMJ’s Instagram for details. \n 
URL:https://iamgmjohnson.com/event/bitch-media-the-rage/
LOCATION:Bitch Media Virtual Event
ORGANIZER;CN="GMJ":MAILTO:iamgmjohnson@gmail.com
END:VEVENT
BEGIN:VEVENT
DTSTART;TZID=America/Los_Angeles:20200617T160000
DTEND;TZID=America/Los_Angeles:20200617T160000
DTSTAMP:20260416T111838
CREATED:20200610T093219Z
LAST-MODIFIED:20200612T030305Z
UID:22646-1592409600-1592409600@iamgmjohnson.com
SUMMARY:Pride at Prince George's County Memorial Library System
DESCRIPTION:George M. Johnson talks about “All Boys Aren’t Blue” Virtual Discussion \nPresented by the Prince George’s County Memorial Library System\, in association with Anne Arundel County Public Library\, Calvert Library\, Carroll County Public Library\, Enoch Pratt Free Library\, and Howard County Public Library.
URL:https://iamgmjohnson.com/event/pride-at-prince-georges-county-memorial-library-system/
LOCATION:Crowdcast Virtual Discussion
ORGANIZER;CN="GMJ":MAILTO:iamgmjohnson@gmail.com
END:VEVENT
BEGIN:VEVENT
DTSTART;TZID=America/Los_Angeles:20200615T150000
DTEND;TZID=America/Los_Angeles:20200615T150000
DTSTAMP:20260416T111838
CREATED:20200610T092354Z
LAST-MODIFIED:20200612T041435Z
UID:22644-1592233200-1592233200@iamgmjohnson.com
SUMMARY:Quarantinis Presented by Oprah Mag
DESCRIPTION:Visit GMJ’s Instagram for details.
URL:https://iamgmjohnson.com/event/quarantinis-presented-by-oprah-mag/
LOCATION:Oprah Magazine Virtual Event
ORGANIZER;CN="GMJ":MAILTO:iamgmjohnson@gmail.com
END:VEVENT
BEGIN:VEVENT
DTSTART;TZID=America/Los_Angeles:20200611T050000
DTEND;TZID=America/Los_Angeles:20200611T050000
DTSTAMP:20260416T111838
CREATED:20200610T091304Z
LAST-MODIFIED:20200610T093638Z
UID:22639-1591851600-1591851600@iamgmjohnson.com
SUMMARY:Black Brilliance with National Black Justice Coalition
DESCRIPTION:Digital Discussion on Instagram Live Event hosted by NBJC. \nThe National Black Justice Coalition (NBJC) is a civil rights organization dedicated to the empowerment of Black lesbian\, gay\, bisexual\, transgender\, queer and same gender loving (LGBTQ/SGL) people\, including people living with HIV/AIDS.
URL:https://iamgmjohnson.com/event/black-brilliance-with-national-black-justice-coalition/
LOCATION:Instagram Live
ORGANIZER;CN="GMJ":MAILTO:iamgmjohnson@gmail.com
END:VEVENT
BEGIN:VEVENT
DTSTART;TZID=America/Los_Angeles:20200610T160000
DTEND;TZID=America/Los_Angeles:20200610T160000
DTSTAMP:20260416T111838
CREATED:20200610T081809Z
LAST-MODIFIED:20200610T094656Z
UID:22626-1591804800-1591804800@iamgmjohnson.com
SUMMARY:92nd Street Y Virtual Event
DESCRIPTION:Celebrate Pride Month: Queer Voices in YA Lit\nGeorge Matthew Johnson\, Anna Birch\, Alexander London\, and Aiden Thomas in Conversation with Christina Orlando.\nFour prominent voices in young adult literature discuss why writing LGBTQ characters and stories is so important to them\, both as writers and as readers.
URL:https://iamgmjohnson.com/event/92nd-street-y-event/
LOCATION:92nd St Y Virtual Event\, 1395 Lexington Avenue\, New York\, NY\, 10128\, United States
ORGANIZER;CN="GMJ":MAILTO:iamgmjohnson@gmail.com
END:VEVENT
END:VCALENDAR